{
 "currentVersion": 10.51,
 "serviceDescription": "Rancho Cordova Basemap (Version 1)",
 "mapName": "MAP LAYERS",
 "description": "",
 "copyrightText": "",
 "supportsDynamicLayers": true,
 "layers": [
  {
   "id": 0,
   "name": "Rancho Cordova City Limits",
   "parentLayerId": -1,
   "defaultVisibility": true,
   "subLayerIds": null,
   "minScale": 0,
   "maxScale": 0
  }
 ],
 "tables": [],
 "spatialReference": {
  "wkid": 102100,
  "latestWkid": 3857
 },
 "singleFusedMapCache": true,
 "tileInfo": {
  "rows": 256,
  "cols": 256,
  "dpi": 96,
  "format": "MIXED",
  "compressionQuality": 75,
  "origin": {
   "x": -20037700,
   "y": 30241100
  },
  "spatialReference": {
   "wkid": 102100,
   "latestWkid": 3857
  },
  "lods": [
   {
    "level": 0,
    "resolution": 152.874174498349,
    "scale": 577791
   },
   {
    "level": 1,
    "resolution": 76.43695495724326,
    "scale": 288895
   },
   {
    "level": 2,
    "resolution": 38.218609770552874,
    "scale": 144448
   },
   {
    "level": 3,
    "resolution": 19.109304885276437,
    "scale": 72224
   },
   {
    "level": 4,
    "resolution": 9.554652442638218,
    "scale": 36112
   },
   {
    "level": 5,
    "resolution": 4.777326221319109,
    "scale": 18056
   },
   {
    "level": 6,
    "resolution": 2.3886631106595546,
    "scale": 9028
   },
   {
    "level": 7,
    "resolution": 1.1943315553297773,
    "scale": 4514
   },
   {
    "level": 8,
    "resolution": 0.5971657776648887,
    "scale": 2257
   },
   {
    "level": 9,
    "resolution": 0.2984505969011938,
    "scale": 1128
   },
   {
    "level": 10,
    "resolution": 0.1492252984505969,
    "scale": 564
   },
   {
    "level": 11,
    "resolution": 0.07461264922529845,
    "scale": 282
   },
   {
    "level": 12,
    "resolution": 0.037306324612649225,
    "scale": 141
   }
  ]
 },
 "initialExtent": {
  "xmin": -1.3507108265524644E7,
  "ymin": 4658346.450948181,
  "xmax": -1.3506752952776086E7,
  "ymax": 4658524.10732246,
  "spatialReference": {
   "wkid": 102100,
   "latestWkid": 3857
  }
 },
 "fullExtent": {
  "xmin": -1.3507226894166747E7,
  "ymin": 4650525.595504147,
  "xmax": -1.349032783788603E7,
  "ymax": 4669413.394224925,
  "spatialReference": {
   "wkid": 102100,
   "latestWkid": 3857
  }
 },
 "minScale": 577791,
 "maxScale": 282,
 "units": "esriMeters",
 "supportedImageFormatTypes": "PNG32,PNG24,PNG,JPG,DIB,TIFF,EMF,PS,PDF,GIF,SVG,SVGZ,BMP",
 "documentInfo": {
  "Title": "RC_GIS_test",
  "Author": "bfindlay",
  "Comments": "Rancho Cordova Basemap (Version 1)",
  "Subject": "Rancho Cordova Basemap",
  "Category": "",
  "AntialiasingMode": "None",
  "TextAntialiasingMode": "Force",
  "Keywords": "Basemap,Rancho Cordova,Sacramento County,California"
 },
 "capabilities": "Data,Map,Query",
 "supportedQueryFormats": "JSON, AMF, geoJSON",
 "hasVersionedData": true,
 "exportTilesAllowed": false,
 "datumTransformations": [
  {
   "geoTransforms": [
    {
     "wkid": 108001,
     "latestWkid": 1241,
     "transformForward": true,
     "name": "NAD_1927_To_NAD_1983_NADCON"
    }
   ]
  },
  {
   "geoTransforms": [
    {
     "wkid": 108001,
     "latestWkid": 1241,
     "transformForward": false,
     "name": "NAD_1927_To_NAD_1983_NADCON"
    }
   ]
  }
 ],
 "supportsDatumTransformation": true,
 "maxRecordCount": 1000,
 "maxImageHeight": 4096,
 "maxImageWidth": 4096,
 "supportedExtensions": ""
}
