{
 "currentVersion": 10.51,
 "serviceDescription": "City of Rancho Cordova 2018 aerial imagery cache at 3 inch resolution. ",
 "mapName": "Layers",
 "description": "",
 "copyrightText": "",
 "supportsDynamicLayers": true,
 "layers": [
  {
   "id": 0,
   "name": "CachingExtent",
   "parentLayerId": -1,
   "defaultVisibility": true,
   "subLayerIds": null,
   "minScale": 0,
   "maxScale": 0
  },
  {
   "id": 1,
   "name": "2018 Aerial Imagery",
   "parentLayerId": -1,
   "defaultVisibility": true,
   "subLayerIds": null,
   "minScale": 0,
   "maxScale": 0
  }
 ],
 "tables": [],
 "spatialReference": {
  "wkid": 102100,
  "latestWkid": 3857
 },
 "singleFusedMapCache": true,
 "tileInfo": {
  "rows": 256,
  "cols": 256,
  "dpi": 96,
  "format": "MIXED",
  "compressionQuality": 75,
  "origin": {
   "x": -20037700,
   "y": 30241100
  },
  "spatialReference": {
   "wkid": 102100,
   "latestWkid": 3857
  },
  "lods": [
   {
    "level": 0,
    "resolution": 152.874174498349,
    "scale": 577791
   },
   {
    "level": 1,
    "resolution": 76.43695495724326,
    "scale": 288895
   },
   {
    "level": 2,
    "resolution": 38.218609770552874,
    "scale": 144448
   },
   {
    "level": 3,
    "resolution": 19.109304885276437,
    "scale": 72224
   },
   {
    "level": 4,
    "resolution": 9.554652442638218,
    "scale": 36112
   },
   {
    "level": 5,
    "resolution": 4.777326221319109,
    "scale": 18056
   },
   {
    "level": 6,
    "resolution": 2.3886631106595546,
    "scale": 9028
   },
   {
    "level": 7,
    "resolution": 1.1943315553297773,
    "scale": 4514
   },
   {
    "level": 8,
    "resolution": 0.5971657776648887,
    "scale": 2257
   },
   {
    "level": 9,
    "resolution": 0.2984505969011938,
    "scale": 1128
   },
   {
    "level": 10,
    "resolution": 0.1492252984505969,
    "scale": 564
   },
   {
    "level": 11,
    "resolution": 0.07461264922529845,
    "scale": 282
   },
   {
    "level": 12,
    "resolution": 0.037306324612649225,
    "scale": 141
   }
  ]
 },
 "initialExtent": {
  "xmin": -1.3516425470267566E7,
  "ymin": 4656039.319701412,
  "xmax": -1.3478362739802087E7,
  "ymax": 4671542.74102635,
  "spatialReference": {
   "wkid": 102100,
   "latestWkid": 3857
  }
 },
 "fullExtent": {
  "xmin": -1.3507624344200002E7,
  "ymin": 4649923.403099999,
  "xmax": -1.34897762534E7,
  "ymax": 4669797.080199999,
  "spatialReference": {
   "wkid": 102100,
   "latestWkid": 3857
  }
 },
 "minScale": 577791,
 "maxScale": 141,
 "units": "esriMeters",
 "supportedImageFormatTypes": "PNG32,PNG24,PNG,JPG,DIB,TIFF,EMF,PS,PDF,GIF,SVG,SVGZ,BMP",
 "documentInfo": {
  "Title": "",
  "Author": "",
  "Comments": "City of Rancho Cordova2018 aerial imagery cache at 3 inch resolution. ",
  "Subject": "City of Rancho Cordova2018 aerial imagery cache at 3 inch resolution. ",
  "Category": "",
  "AntialiasingMode": "None",
  "TextAntialiasingMode": "Force",
  "Keywords": "aerial imagery,2018,City of Rancho Cordova,cache,tile,tiling"
 },
 "capabilities": "Map",
 "supportedQueryFormats": "JSON, AMF, geoJSON",
 "exportTilesAllowed": false,
 "datumTransformations": [
  {
   "geoTransforms": [
    {
     "wkid": 1739,
     "latestWkid": 1739,
     "transformForward": true,
     "name": "NAD_1983_To_WGS_1984_northern_California_43"
    }
   ]
  },
  {
   "geoTransforms": [
    {
     "wkid": 1739,
     "latestWkid": 1739,
     "transformForward": false,
     "name": "NAD_1983_To_WGS_1984_northern_California_43"
    }
   ]
  }
 ],
 "supportsDatumTransformation": true,
 "maxRecordCount": 1000,
 "maxImageHeight": 4096,
 "maxImageWidth": 4096,
 "supportedExtensions": ""
}
