{
 "currentVersion": 10.51,
 "serviceDescription": "2022 Aerials from Regional GIS Cooperative",
 "mapName": "Layers",
 "description": "",
 "copyrightText": "",
 "supportsDynamicLayers": true,
 "layers": [
  {
   "id": 0,
   "name": "Aerials_2022",
   "parentLayerId": -1,
   "defaultVisibility": true,
   "subLayerIds": null,
   "minScale": 0,
   "maxScale": 0
  }
 ],
 "tables": [],
 "spatialReference": {
  "wkid": 102100,
  "latestWkid": 3857
 },
 "singleFusedMapCache": true,
 "tileInfo": {
  "rows": 256,
  "cols": 256,
  "dpi": 96,
  "format": "MIXED",
  "compressionQuality": 75,
  "origin": {
   "x": -20037700,
   "y": 30241100
  },
  "spatialReference": {
   "wkid": 102100,
   "latestWkid": 3857
  },
  "lods": [
   {
    "level": 0,
    "resolution": 38.218609770552874,
    "scale": 144448
   },
   {
    "level": 1,
    "resolution": 19.109304885276437,
    "scale": 72224
   },
   {
    "level": 2,
    "resolution": 9.554652442638218,
    "scale": 36112
   },
   {
    "level": 3,
    "resolution": 4.777326221319109,
    "scale": 18056
   },
   {
    "level": 4,
    "resolution": 2.3886631106595546,
    "scale": 9028
   },
   {
    "level": 5,
    "resolution": 1.1943315553297773,
    "scale": 4514
   },
   {
    "level": 6,
    "resolution": 0.5971657776648887,
    "scale": 2257
   },
   {
    "level": 7,
    "resolution": 0.2984505969011938,
    "scale": 1128
   },
   {
    "level": 8,
    "resolution": 0.1492252984505969,
    "scale": 564
   },
   {
    "level": 9,
    "resolution": 0.07461264922529845,
    "scale": 282
   }
  ]
 },
 "initialExtent": {
  "xmin": -1.3511136503708398E7,
  "ymin": 4658678.0954705095,
  "xmax": -1.3480270328328395E7,
  "ymax": 4673198.786781353,
  "spatialReference": {
   "wkid": 102100,
   "latestWkid": 3857
  }
 },
 "fullExtent": {
  "xmin": -1.3510745061623633E7,
  "ymin": 4648071.708161543,
  "xmax": -1.3486912656244839E7,
  "ymax": 4672002.259228027,
  "spatialReference": {
   "wkid": 102100,
   "latestWkid": 3857
  }
 },
 "minScale": 144448,
 "maxScale": 282,
 "units": "esriMeters",
 "supportedImageFormatTypes": "PNG32,PNG24,PNG,JPG,DIB,TIFF,EMF,PS,PDF,GIF,SVG,SVGZ,BMP",
 "documentInfo": {
  "Title": "",
  "Author": "",
  "Comments": "2022 Aerials from Regional GIS Cooperative",
  "Subject": "Aerials 2022",
  "Category": "",
  "AntialiasingMode": "None",
  "TextAntialiasingMode": "Force",
  "Keywords": "Aerials,2022"
 },
 "capabilities": "Map",
 "supportedQueryFormats": "JSON, AMF, geoJSON",
 "exportTilesAllowed": false,
 "supportsDatumTransformation": true,
 "maxRecordCount": 1000,
 "maxImageHeight": 4096,
 "maxImageWidth": 4096,
 "supportedExtensions": ""
}
